BEGIN:VCALENDAR
VERSION:2.0
PRODID:-//TV Gimmeldingen - ECPv4.6.22//NONSGML v1.0//EN
CALSCALE:GREGORIAN
METHOD:PUBLISH
X-WR-CALNAME:TV Gimmeldingen
X-ORIGINAL-URL:https://www.tvgimmeldingen.de
X-WR-CALDESC:Veranstaltungen für TV Gimmeldingen
BEGIN:VEVENT
DTSTART;VALUE=DATE:20160505
DTEND;VALUE=DATE:20160506
DTSTAMP:20260420T103347
CREATED:20171013T080443Z
LAST-MODIFIED:20171129T110737Z
UID:5122-1462406400-1462492799@www.tvgimmeldingen.de
SUMMARY:44. Gimmeldinger Volkslauf am 1. Juli 2016
DESCRIPTION:Nach einjähriger Zwangspause startet unser Volkslauf mit einer Neuerung zum 44. Mal ins Gimmeldinger Tal. \nTraditionell werden wir wieder unseren Zehner und unseren Halbmarathon für alle ambitionierten Volksläufer auf einer bzw. zwei Runden durch das angenehm kühle Gimmeldinger Tal anbieten. \nNeu hinzu kommt ein 3000-Meter-Lauf für Breitensportler\, der für das Sportabzeichen gewertet werden kann. Der Schülerlauf wird auf 800 m verkürzt und kann somit ebenso in die Sportabzeichenwertung Eingang finden. \nWeitere Details und eine Online-Anmeldung finden Sie auf unserer Volkslauf-Seite. \n
URL:https://www.tvgimmeldingen.de/veranstaltung/44-gimmeldinger-volkslauf-am-1-juli-2016/
END:VEVENT
END:VCALENDAR