BEGIN:VCALENDAR
VERSION:2.0
PRODID:-//TV Gimmeldingen - ECPv4.6.22//NONSGML v1.0//EN
CALSCALE:GREGORIAN
METHOD:PUBLISH
X-WR-CALNAME:TV Gimmeldingen
X-ORIGINAL-URL:https://www.tvgimmeldingen.de
X-WR-CALDESC:Veranstaltungen für TV Gimmeldingen
BEGIN:VEVENT
DTSTART;TZID=Europe/Berlin:20180214T183000
DTEND;TZID=Europe/Berlin:20180214T183000
DTSTAMP:20260419T215410
CREATED:20180111T093226Z
LAST-MODIFIED:20180203T105832Z
UID:5836-1518633000-1518633000@www.tvgimmeldingen.de
SUMMARY:Heringsessen
DESCRIPTION:Zum mittlerweile 5. Mal laden die „Mittwochsfrauen“ der Wirbelsäulengymnastik am Aschermittwoch zum Heringsessen in die Halle des TV Gimmeldingen\, Im Tal 7\, ein. Die Gäste dürfen sich ab 18:30 wieder auf ein leckeres Buffet freuen\, dass an kulinarischen Schmankerln so Einiges zu bieten hat. Neben diversen Heringssalaten nach Hausfrauenart wird es auch wieder Variationen von Lachs\, Ei und Käse geben. Alles natürlich mit viel Liebe zubereitet. Die Bezahlung erfolgt – wie immer – auf Spendenbasis. Der Erlös kommt ohne Abzüge direkt dem Verein zugute. Seien Sie also ruhig großzügig 😉 \nAnmeldungen für das Heringsessen bitte per Mail an jutta.schaper@tvgimmeldingen.de oder unter Tel.: 0 63 21 –  6 68 91 \n
URL:https://www.tvgimmeldingen.de/veranstaltung/heringsessen/
END:VEVENT
END:VCALENDAR