BEGIN:VCALENDAR
VERSION:2.0
PRODID:-//TV Gimmeldingen - ECPv4.6.22//NONSGML v1.0//EN
CALSCALE:GREGORIAN
METHOD:PUBLISH
X-WR-CALNAME:TV Gimmeldingen
X-ORIGINAL-URL:https://www.tvgimmeldingen.de
X-WR-CALDESC:Veranstaltungen für TV Gimmeldingen
BEGIN:VEVENT
DTSTART;VALUE=DATE:20171125
DTEND;VALUE=DATE:20171126
DTSTAMP:20260420T024643
CREATED:20171019T154430Z
LAST-MODIFIED:20171129T110737Z
UID:5216-1511568000-1511654399@www.tvgimmeldingen.de
SUMMARY:Konzertbüro Schmidt päsentiert  Nick Woodland & Band
DESCRIPTION:Pünktlich zu Jahresbeginn überrascht das Münchner Blues-Urgestein Nick Woodland seine Fans mit einem neuen Album. „Street Level“ heißt das Werk\, das achte Album des „britischsten aller Münchner und des münchnerischsten aller Briten“ (SZ). Herausgekommen ist ein Singer-/Songwriter-Album voller Tiefe – ein weiterer Höhepunkt im musikalischen Leben einer Blues-Legende. \n
URL:https://www.tvgimmeldingen.de/veranstaltung/konzertbuero-schmidt-paesentiert-nick-woodland-band/
END:VEVENT
END:VCALENDAR