BEGIN:VCALENDAR
VERSION:2.0
PRODID:-//TV Gimmeldingen - ECPv4.6.22//NONSGML v1.0//EN
CALSCALE:GREGORIAN
METHOD:PUBLISH
X-WR-CALNAME:TV Gimmeldingen
X-ORIGINAL-URL:https://www.tvgimmeldingen.de
X-WR-CALDESC:Veranstaltungen für TV Gimmeldingen
BEGIN:VEVENT
DTSTART;TZID=Europe/Berlin:20180505T110000
DTEND;TZID=Europe/Berlin:20180505T110000
DTSTAMP:20260419T153604
CREATED:20180425T072633Z
LAST-MODIFIED:20180425T072633Z
UID:6043-1525518000-1525518000@www.tvgimmeldingen.de
SUMMARY:LVP Bezirk Vorderpfalz Einzelmeisterschaften
DESCRIPTION:In diesem Jahr richtet der TV Gimmeldingen die LA-Einzelmeisterschaften für den Bezirk Vorderpfalz im Neustadter Stadion aus. \n
URL:https://www.tvgimmeldingen.de/veranstaltung/lvp-bezirk-vorderpfalz-einzelmeisterschaften/
END:VEVENT
END:VCALENDAR