BEGIN:VCALENDAR
VERSION:2.0
PRODID:-//TV Gimmeldingen - ECPv4.6.22//NONSGML v1.0//EN
CALSCALE:GREGORIAN
METHOD:PUBLISH
X-WR-CALNAME:TV Gimmeldingen
X-ORIGINAL-URL:https://www.tvgimmeldingen.de
X-WR-CALDESC:Veranstaltungen für TV Gimmeldingen
BEGIN:VEVENT
DTSTART;TZID=Europe/Berlin:20180504T200000
DTEND;TZID=Europe/Berlin:20180504T200000
DTSTAMP:20260419T172252
CREATED:20180102T152518Z
LAST-MODIFIED:20180102T163550Z
UID:5727-1525464000-1525464000@www.tvgimmeldingen.de
SUMMARY:Spitz und Stumpf präsentieren SOKO Baure Cop
DESCRIPTION:
URL:https://www.tvgimmeldingen.de/veranstaltung/spitz-und-stumpf/
END:VEVENT
END:VCALENDAR