BEGIN:VCALENDAR
VERSION:2.0
PRODID:-//TV Gimmeldingen - ECPv4.6.22//NONSGML v1.0//EN
CALSCALE:GREGORIAN
METHOD:PUBLISH
X-WR-CALNAME:TV Gimmeldingen
X-ORIGINAL-URL:https://www.tvgimmeldingen.de
X-WR-CALDESC:Veranstaltungen für TV Gimmeldingen
BEGIN:VEVENT
DTSTART;TZID=Europe/Berlin:20180224T160000
DTEND;TZID=Europe/Berlin:20180224T160000
DTSTAMP:20260419T203102
CREATED:20180102T152700Z
LAST-MODIFIED:20180205T094823Z
UID:5722-1519488000-1519488000@www.tvgimmeldingen.de
SUMMARY:Tischtennisturnier
DESCRIPTION:Einladung zum\n5. TVG-Tischtennisturnier\nam Samstag\, den 24.02.2018\nim Sportheim Im Tal 7\, 67435 NW-Gimmeldingen \nGespielt wird jeweils im Einzel in vier Altersgruppen\n \nKinder und Jugendliche:\n7-9 Jahre\, Turnierbeginn: 16.00 Uhr\n10-12 Jahre\, Turnierbeginn: 16:00 Uhr\n13-17 Jahre\, Turnierbeginn: 17.00 Uhr \nDamen und Herren\nab 18 Jahre\, Turnierbeginn: 18.00 Uhr\n \n Anmeldungen an: Saskia Beuttler  \, Tel. 99 92 10\, mail: saskia.beuttler@tvgimmeldingen.de\noder Claus Steinmetz\, Tel. 96 86 58 \, mail:  claus.steinmetz@tvgimmeldingen.de \nAnmeldeschluss ist der 23.02.2018\nNachmeldungen sind am Turniertag nur möglich\, wenn im Spielmodus  noch freie Plätze sind \nMitzubringen sind Schläger und Turnschuhe mit abriebfester Sohle.\nDie Anmeldegebühr beträgt jeweils 2 € \n  \n
URL:https://www.tvgimmeldingen.de/veranstaltung/tischtennisturnier/
END:VEVENT
END:VCALENDAR