BEGIN:VCALENDAR
VERSION:2.0
PRODID:-//TV Gimmeldingen - ECPv4.6.22//NONSGML v1.0//EN
CALSCALE:GREGORIAN
METHOD:PUBLISH
X-WR-CALNAME:TV Gimmeldingen
X-ORIGINAL-URL:https://www.tvgimmeldingen.de
X-WR-CALDESC:Veranstaltungen für TV Gimmeldingen
BEGIN:VEVENT
DTSTART;TZID=Europe/Berlin:20180629T180000
DTEND;TZID=Europe/Berlin:20180629T180000
DTSTAMP:20260419T141041
CREATED:20180102T152411Z
LAST-MODIFIED:20180515T183841Z
UID:5729-1530295200-1530295200@www.tvgimmeldingen.de
SUMMARY:46. Gimmeldinger Volkslauf
DESCRIPTION:Zum 46. Mal findet der traditionelle Volkslauf im Gimmeldinger Tal statt. \nInformationen zum Lauf und die Online Anmeldung finden Sie hier. \n  \n  \n
URL:https://www.tvgimmeldingen.de/veranstaltung/volkslauf/
END:VEVENT
END:VCALENDAR