BEGIN:VCALENDAR
VERSION:2.0
PRODID:-//TV Gimmeldingen - ECPv4.6.22//NONSGML v1.0//EN
CALSCALE:GREGORIAN
METHOD:PUBLISH
X-WR-CALNAME:TV Gimmeldingen
X-ORIGINAL-URL:https://www.tvgimmeldingen.de
X-WR-CALDESC:Veranstaltungen für TV Gimmeldingen
BEGIN:VEVENT
DTSTART;TZID=Europe/Berlin:20171222T190000
DTEND;TZID=Europe/Berlin:20171222T190000
DTSTAMP:20260420T012116
CREATED:20171126T124826Z
LAST-MODIFIED:20171129T110737Z
UID:5540-1513969200-1513969200@www.tvgimmeldingen.de
SUMMARY:Weihnachtsfeier Talrunner and Friends
DESCRIPTION:Wir möchten uns vor Weihnachten in der Sportgaststätte treffen und zusammen feiern. Anlass ist das 20jährige Bestehen der Talrunner. \n
URL:https://www.tvgimmeldingen.de/veranstaltung/weihnachtsfeier-talrunner-and-friends/
LOCATION:Weihnachtsfeier Talrunner and Friends\, Im Tal 7\, 67435 Neustadt
END:VEVENT
END:VCALENDAR