BEGIN:VCALENDAR
VERSION:2.0
PRODID:-//TV Gimmeldingen - ECPv4.6.22//NONSGML v1.0//EN
CALSCALE:GREGORIAN
METHOD:PUBLISH
X-WR-CALNAME:TV Gimmeldingen
X-ORIGINAL-URL:https://www.tvgimmeldingen.de
X-WR-CALDESC:Veranstaltungen für TV Gimmeldingen
BEGIN:VEVENT
DTSTART;TZID=Europe/Berlin:20180421T200000
DTEND;TZID=Europe/Berlin:20180421T200000
DTSTAMP:20260419T184418
CREATED:20180102T152551Z
LAST-MODIFIED:20180102T161128Z
UID:5725-1524340800-1524340800@www.tvgimmeldingen.de
SUMMARY:Wespennest e.V. präsentiert Mississippi Heat
DESCRIPTION:
URL:https://www.tvgimmeldingen.de/veranstaltung/wespennest-e-v-praesentiert-mississippi-heat/
END:VEVENT
END:VCALENDAR